BEGIN:VCALENDAR
VERSION:2.0
PRODID:-// - ECPv4.6.10.1//NONSGML v1.0//EN
CALSCALE:GREGORIAN
METHOD:PUBLISH
X-WR-CALNAME:
X-ORIGINAL-URL:https://ssktabs.info
X-WR-CALDESC:Events for 
BEGIN:VEVENT
DTSTART;TZID=Europe/Bratislava:20260425T090000
DTEND;TZID=Europe/Bratislava:20260425T140000
DTSTAMP:20260423T125522
CREATED:20260129T185310Z
LAST-MODIFIED:20260129T185310Z
UID:797-1777107600-1777125600@ssktabs.info
SUMMARY:Tréning Pištoľ
DESCRIPTION:
URL:https://ssktabs.info/event/trening-pistol/
LOCATION:Slovenská republika
CATEGORIES:Tréning
END:VEVENT
BEGIN:VEVENT
DTSTART;TZID=Europe/Bratislava:20260509T090000
DTEND;TZID=Europe/Bratislava:20260509T140000
DTSTAMP:20260423T125522
CREATED:20260129T185313Z
LAST-MODIFIED:20260129T185313Z
UID:798-1778317200-1778335200@ssktabs.info
SUMMARY:Súťaž 1.kolo dlhá
DESCRIPTION:
URL:https://ssktabs.info/event/sutaz-1-kolo-dlha/
LOCATION:Slovenská republika
CATEGORIES:Súťaž Puška
END:VEVENT
BEGIN:VEVENT
DTSTART;TZID=Europe/Bratislava:20260627T090000
DTEND;TZID=Europe/Bratislava:20260627T140000
DTSTAMP:20260423T125522
CREATED:20260129T185316Z
LAST-MODIFIED:20260129T185316Z
UID:799-1782550800-1782568800@ssktabs.info
SUMMARY:Súťaž 3.kolo krátka
DESCRIPTION:
URL:https://ssktabs.info/event/sutaz-3-kolo-kratka-2/
LOCATION:Slovenská republika
CATEGORIES:Súťaž Pištoľ
END:VEVENT
BEGIN:VEVENT
DTSTART;TZID=Europe/Bratislava:20260704T090000
DTEND;TZID=Europe/Bratislava:20260704T140000
DTSTAMP:20260423T125522
CREATED:20260129T185319Z
LAST-MODIFIED:20260129T185319Z
UID:800-1783155600-1783173600@ssktabs.info
SUMMARY:Súťaž Malá/Veľká snajperka
DESCRIPTION:
URL:https://ssktabs.info/event/sutaz-mala-velka-snajperka/
LOCATION:Slovenská republika
CATEGORIES:Súťaž Malorážka
END:VEVENT
BEGIN:VEVENT
DTSTART;TZID=Europe/Bratislava:20260808T090000
DTEND;TZID=Europe/Bratislava:20260808T140000
DTSTAMP:20260423T125522
CREATED:20260129T185322Z
LAST-MODIFIED:20260129T185322Z
UID:801-1786179600-1786197600@ssktabs.info
SUMMARY:Tréning
DESCRIPTION:
URL:https://ssktabs.info/event/trening-10/
LOCATION:Slovenská republika
CATEGORIES:Tréning
END:VEVENT
BEGIN:VEVENT
DTSTART;TZID=Europe/Bratislava:20260926T090000
DTEND;TZID=Europe/Bratislava:20260926T140000
DTSTAMP:20260423T125522
CREATED:20260129T185325Z
LAST-MODIFIED:20260129T185325Z
UID:802-1790413200-1790431200@ssktabs.info
SUMMARY:Memoriál "J.H." - krátka
DESCRIPTION:
URL:https://ssktabs.info/event/memorial-j-h-kratka/
LOCATION:Slovenská republika
CATEGORIES:Súťaž Pištoľ
END:VEVENT
BEGIN:VEVENT
DTSTART;TZID=Europe/Bratislava:20261031T090000
DTEND;TZID=Europe/Bratislava:20261031T140000
DTSTAMP:20260423T125522
CREATED:20260129T185328Z
LAST-MODIFIED:20260129T185328Z
UID:803-1793437200-1793455200@ssktabs.info
SUMMARY:Súťaž 2.kolo dlhá
DESCRIPTION:
URL:https://ssktabs.info/event/sutaz-2-kolo-dlha/
LOCATION:Slovenská republika
CATEGORIES:Súťaž Puška
END:VEVENT
BEGIN:VEVENT
DTSTART;TZID=Europe/Bratislava:20261114T090000
DTEND;TZID=Europe/Bratislava:20261114T140000
DTSTAMP:20260423T125522
CREATED:20260129T185332Z
LAST-MODIFIED:20260129T185332Z
UID:804-1794646800-1794664800@ssktabs.info
SUMMARY:Súťaž 4.kolo krátka
DESCRIPTION:
URL:https://ssktabs.info/event/sutaz-4-kolo-kratka-2/
LOCATION:Slovenská republika
CATEGORIES:Súťaž Pištoľ
END:VEVENT
BEGIN:VEVENT
DTSTART;TZID=Europe/Bratislava:20261205T090000
DTEND;TZID=Europe/Bratislava:20261205T140000
DTSTAMP:20260423T125522
CREATED:20260129T185338Z
LAST-MODIFIED:20260129T185338Z
UID:805-1796461200-1796479200@ssktabs.info
SUMMARY:Kino-strelnica
DESCRIPTION:
URL:https://ssktabs.info/event/kino-strelnica/
LOCATION:Lehota 980\, Lehota-Krvavé Šenky\, 951 36\, Slovenská republika
CATEGORIES:Happy Shooting
END:VEVENT
END:VCALENDAR